BEGIN:VCALENDAR
VERSION:2.0
PRODID:-//Penryn College - ECPv6.15.13//NONSGML v1.0//EN
CALSCALE:GREGORIAN
METHOD:PUBLISH
X-ORIGINAL-URL:https://penryn-college.cornwall.sch.uk
X-WR-CALDESC:Events for Penryn College
REFRESH-INTERVAL;VALUE=DURATION:PT1H
X-Robots-Tag:noindex
X-PUBLISHED-TTL:PT1H
BEGIN:VTIMEZONE
TZID:Europe/London
BEGIN:DAYLIGHT
TZOFFSETFROM:+0000
TZOFFSETTO:+0100
TZNAME:BST
DTSTART:20230326T010000
END:DAYLIGHT
BEGIN:STANDARD
TZOFFSETFROM:+0100
TZOFFSETTO:+0000
TZNAME:GMT
DTSTART:20231029T010000
END:STANDARD
BEGIN:DAYLIGHT
TZOFFSETFROM:+0000
TZOFFSETTO:+0100
TZNAME:BST
DTSTART:20240331T010000
END:DAYLIGHT
BEGIN:STANDARD
TZOFFSETFROM:+0100
TZOFFSETTO:+0000
TZNAME:GMT
DTSTART:20241027T010000
END:STANDARD
BEGIN:DAYLIGHT
TZOFFSETFROM:+0000
TZOFFSETTO:+0100
TZNAME:BST
DTSTART:20250330T010000
END:DAYLIGHT
BEGIN:STANDARD
TZOFFSETFROM:+0100
TZOFFSETTO:+0000
TZNAME:GMT
DTSTART:20251026T010000
END:STANDARD
END:VTIMEZONE
BEGIN:VEVENT
DTSTART;VALUE=DATE:20240401
DTEND;VALUE=DATE:20240415
DTSTAMP:20260417T132011
CREATED:20230605T100016Z
LAST-MODIFIED:20230605T125011Z
UID:10000382-1711929600-1713139199@penryn-college.cornwall.sch.uk
SUMMARY:Easter Holidays
DESCRIPTION:A two-week break for the Easter holidays.
URL:https://penryn-college.cornwall.sch.uk/event/easter-holidays-8/
END:VEVENT
BEGIN:VEVENT
DTSTART;VALUE=DATE:20240415
DTEND;VALUE=DATE:20240416
DTSTAMP:20260417T132011
CREATED:20230605T100158Z
LAST-MODIFIED:20230605T100158Z
UID:10000383-1713139200-1713225599@penryn-college.cornwall.sch.uk
SUMMARY:Students Return to School Following Easter Break
DESCRIPTION:Students return to school following the Easter holidays.
URL:https://penryn-college.cornwall.sch.uk/event/students-return-to-school-following-easter-break-2/
END:VEVENT
BEGIN:VEVENT
DTSTART;VALUE=DATE:20240422
DTEND;VALUE=DATE:20240427
DTSTAMP:20260417T132011
CREATED:20240115T144434Z
LAST-MODIFIED:20240115T144434Z
UID:10000427-1713744000-1714175999@penryn-college.cornwall.sch.uk
SUMMARY:Year 10 Mid-Term Exams (Week 1)
DESCRIPTION:Our Year 10 Mid-Term Exams.
URL:https://penryn-college.cornwall.sch.uk/event/year-10-mid-term-exams-week-1/
END:VEVENT
BEGIN:VEVENT
DTSTART;TZID=Europe/London:20240423T154000
DTEND;TZID=Europe/London:20240423T174000
DTSTAMP:20260417T132011
CREATED:20240115T144226Z
LAST-MODIFIED:20240115T144226Z
UID:10000426-1713886800-1713894000@penryn-college.cornwall.sch.uk
SUMMARY:Year 8 Subject Review Evening
DESCRIPTION:Our Year 8 Subject Review Evening (Parents’ Evening)\, which will take place online.
URL:https://penryn-college.cornwall.sch.uk/event/year-8-subject-review-evening-2/
END:VEVENT
BEGIN:VEVENT
DTSTART;VALUE=DATE:20240429
DTEND;VALUE=DATE:20240504
DTSTAMP:20260417T132011
CREATED:20240115T144535Z
LAST-MODIFIED:20240115T144535Z
UID:10000428-1714348800-1714780799@penryn-college.cornwall.sch.uk
SUMMARY:Year 10 Mid-Term Exams (Week 2)
DESCRIPTION:Our Year 10 Mid-Term Exams.
URL:https://penryn-college.cornwall.sch.uk/event/year-10-mid-term-exams-week-2/
END:VEVENT
BEGIN:VEVENT
DTSTART;TZID=Europe/London:20240430T170000
DTEND;TZID=Europe/London:20240430T174000
DTSTAMP:20260417T132011
CREATED:20240115T144940Z
LAST-MODIFIED:20240115T151014Z
UID:10000429-1714496400-1714498800@penryn-college.cornwall.sch.uk
SUMMARY:Parents' Forum Meeting
DESCRIPTION:Our April Parents’ Forum Meeting\,
URL:https://penryn-college.cornwall.sch.uk/event/parents-forum-meeting-5/
END:VEVENT
END:VCALENDAR