BEGIN:VCALENDAR
VERSION:2.0
PRODID:-//Penryn College - ECPv6.15.13//NONSGML v1.0//EN
CALSCALE:GREGORIAN
METHOD:PUBLISH
X-WR-CALNAME:Penryn College
X-ORIGINAL-URL:https://penryn-college.cornwall.sch.uk
X-WR-CALDESC:Events for Penryn College
REFRESH-INTERVAL;VALUE=DURATION:PT1H
X-Robots-Tag:noindex
X-PUBLISHED-TTL:PT1H
BEGIN:VTIMEZONE
TZID:Europe/London
BEGIN:DAYLIGHT
TZOFFSETFROM:+0000
TZOFFSETTO:+0100
TZNAME:BST
DTSTART:20150329T010000
END:DAYLIGHT
BEGIN:STANDARD
TZOFFSETFROM:+0100
TZOFFSETTO:+0000
TZNAME:GMT
DTSTART:20151025T010000
END:STANDARD
BEGIN:DAYLIGHT
TZOFFSETFROM:+0000
TZOFFSETTO:+0100
TZNAME:BST
DTSTART:20160327T010000
END:DAYLIGHT
BEGIN:STANDARD
TZOFFSETFROM:+0100
TZOFFSETTO:+0000
TZNAME:GMT
DTSTART:20161030T010000
END:STANDARD
BEGIN:DAYLIGHT
TZOFFSETFROM:+0000
TZOFFSETTO:+0100
TZNAME:BST
DTSTART:20170326T010000
END:DAYLIGHT
BEGIN:STANDARD
TZOFFSETFROM:+0100
TZOFFSETTO:+0000
TZNAME:GMT
DTSTART:20171029T010000
END:STANDARD
END:VTIMEZONE
BEGIN:VEVENT
DTSTART;VALUE=DATE:20161119
DTEND;VALUE=DATE:20161121
DTSTAMP:20260422T020906
CREATED:20160830T135622Z
LAST-MODIFIED:20160830T135622Z
UID:10000062-1479513600-1479686399@penryn-college.cornwall.sch.uk
SUMMARY:Leading Edge - Isles of Scilly
DESCRIPTION:
URL:https://penryn-college.cornwall.sch.uk/event/leading-edge-isles-scilly/
LOCATION:Isles of Scilly\, St Mary's Isles of Scilly \, United Kingdom
GEO:49.925002;-6.298672
X-APPLE-STRUCTURED-LOCATION;VALUE=URI;X-ADDRESS=Isles of Scilly St Mary's Isles of Scilly  United Kingdom;X-APPLE-RADIUS=500;X-TITLE=St Mary's Isles of Scilly:geo:-6.298672,49.925002
END:VEVENT
BEGIN:VEVENT
DTSTART;VALUE=DATE:20160715
DTEND;VALUE=DATE:20160725
DTSTAMP:20260422T020906
CREATED:20160428T112540Z
LAST-MODIFIED:20160428T112540Z
UID:10000028-1468540800-1469404799@penryn-college.cornwall.sch.uk
SUMMARY:Year 10 Leading Edge Challenge
DESCRIPTION:
URL:https://penryn-college.cornwall.sch.uk/event/year-10-leading-edge-challenge/
LOCATION:Dolomites
GEO:46.227638;2.213749
END:VEVENT
END:VCALENDAR