BEGIN:VCALENDAR
VERSION:2.0
PRODID:-//Penryn College - ECPv6.15.13//NONSGML v1.0//EN
CALSCALE:GREGORIAN
METHOD:PUBLISH
X-WR-CALNAME:Penryn College
X-ORIGINAL-URL:https://penryn-college.cornwall.sch.uk
X-WR-CALDESC:Events for Penryn College
REFRESH-INTERVAL;VALUE=DURATION:PT1H
X-Robots-Tag:noindex
X-PUBLISHED-TTL:PT1H
BEGIN:VTIMEZONE
TZID:Europe/London
BEGIN:DAYLIGHT
TZOFFSETFROM:+0000
TZOFFSETTO:+0100
TZNAME:BST
DTSTART:20150329T010000
END:DAYLIGHT
BEGIN:STANDARD
TZOFFSETFROM:+0100
TZOFFSETTO:+0000
TZNAME:GMT
DTSTART:20151025T010000
END:STANDARD
BEGIN:DAYLIGHT
TZOFFSETFROM:+0000
TZOFFSETTO:+0100
TZNAME:BST
DTSTART:20160327T010000
END:DAYLIGHT
BEGIN:STANDARD
TZOFFSETFROM:+0100
TZOFFSETTO:+0000
TZNAME:GMT
DTSTART:20161030T010000
END:STANDARD
BEGIN:DAYLIGHT
TZOFFSETFROM:+0000
TZOFFSETTO:+0100
TZNAME:BST
DTSTART:20170326T010000
END:DAYLIGHT
BEGIN:STANDARD
TZOFFSETFROM:+0100
TZOFFSETTO:+0000
TZNAME:GMT
DTSTART:20171029T010000
END:STANDARD
END:VTIMEZONE
BEGIN:VEVENT
DTSTART;TZID=Europe/London:20160630T180000
DTEND;TZID=Europe/London:20160630T230000
DTSTAMP:20260422T020610
CREATED:20160428T111943Z
LAST-MODIFIED:20160428T111943Z
UID:10000002-1467309600-1467327600@penryn-college.cornwall.sch.uk
SUMMARY:Year 11 School Prom
DESCRIPTION:The annual end of school prom for Year 11 at Merchants Manor in Falmouth.
URL:https://penryn-college.cornwall.sch.uk/event/year-11-school-prom/
LOCATION:Merchants Manor\, Merchants Manor \, Falmouth \, TR11 4QJ\, United Kingdom
GEO:50.1489271;-5.0750103
X-APPLE-STRUCTURED-LOCATION;VALUE=URI;X-ADDRESS=Merchants Manor Merchants Manor  Falmouth  TR11 4QJ United Kingdom;X-APPLE-RADIUS=500;X-TITLE=Merchants Manor:geo:-5.0750103,50.1489271
END:VEVENT
END:VCALENDAR