BEGIN:VCALENDAR
VERSION:2.0
PRODID:-//Penryn College - ECPv6.15.13//NONSGML v1.0//EN
CALSCALE:GREGORIAN
METHOD:PUBLISH
X-ORIGINAL-URL:https://penryn-college.cornwall.sch.uk
X-WR-CALDESC:Events for Penryn College
REFRESH-INTERVAL;VALUE=DURATION:PT1H
X-Robots-Tag:noindex
X-PUBLISHED-TTL:PT1H
BEGIN:VTIMEZONE
TZID:Europe/London
BEGIN:DAYLIGHT
TZOFFSETFROM:+0000
TZOFFSETTO:+0100
TZNAME:BST
DTSTART:20150329T010000
END:DAYLIGHT
BEGIN:STANDARD
TZOFFSETFROM:+0100
TZOFFSETTO:+0000
TZNAME:GMT
DTSTART:20151025T010000
END:STANDARD
BEGIN:DAYLIGHT
TZOFFSETFROM:+0000
TZOFFSETTO:+0100
TZNAME:BST
DTSTART:20160327T010000
END:DAYLIGHT
BEGIN:STANDARD
TZOFFSETFROM:+0100
TZOFFSETTO:+0000
TZNAME:GMT
DTSTART:20161030T010000
END:STANDARD
BEGIN:DAYLIGHT
TZOFFSETFROM:+0000
TZOFFSETTO:+0100
TZNAME:BST
DTSTART:20170326T010000
END:DAYLIGHT
BEGIN:STANDARD
TZOFFSETFROM:+0100
TZOFFSETTO:+0000
TZNAME:GMT
DTSTART:20171029T010000
END:STANDARD
END:VTIMEZONE
BEGIN:VEVENT
DTSTART;VALUE=DATE:20160609
DTEND;VALUE=DATE:20160617
DTSTAMP:20260422T020619
CREATED:20160428T111416Z
LAST-MODIFIED:20160428T111416Z
UID:10000005-1465430400-1466121599@penryn-college.cornwall.sch.uk
SUMMARY:French Exchange Trip
DESCRIPTION:
URL:https://penryn-college.cornwall.sch.uk/event/french-exchange-trip/
END:VEVENT
BEGIN:VEVENT
DTSTART;VALUE=DATE:20160519
DTEND;VALUE=DATE:20160527
DTSTAMP:20260422T020619
CREATED:20160428T110455Z
LAST-MODIFIED:20160428T110455Z
UID:10000007-1463616000-1464307199@penryn-college.cornwall.sch.uk
SUMMARY:Penryn College Host French Exchange Students
DESCRIPTION:Penryn College hosts students from France on our annual reciprocal exchange visit.
URL:https://penryn-college.cornwall.sch.uk/event/penryn-college-host-french-exchange-students/
END:VEVENT
END:VCALENDAR