BEGIN:VCALENDAR
VERSION:2.0
PRODID:-//Penryn College - ECPv6.15.13//NONSGML v1.0//EN
CALSCALE:GREGORIAN
METHOD:PUBLISH
X-ORIGINAL-URL:https://penryn-college.cornwall.sch.uk
X-WR-CALDESC:Events for Penryn College
REFRESH-INTERVAL;VALUE=DURATION:PT1H
X-Robots-Tag:noindex
X-PUBLISHED-TTL:PT1H
BEGIN:VTIMEZONE
TZID:Europe/London
BEGIN:DAYLIGHT
TZOFFSETFROM:+0000
TZOFFSETTO:+0100
TZNAME:BST
DTSTART:20150329T010000
END:DAYLIGHT
BEGIN:STANDARD
TZOFFSETFROM:+0100
TZOFFSETTO:+0000
TZNAME:GMT
DTSTART:20151025T010000
END:STANDARD
BEGIN:DAYLIGHT
TZOFFSETFROM:+0000
TZOFFSETTO:+0100
TZNAME:BST
DTSTART:20160327T010000
END:DAYLIGHT
BEGIN:STANDARD
TZOFFSETFROM:+0100
TZOFFSETTO:+0000
TZNAME:GMT
DTSTART:20161030T010000
END:STANDARD
BEGIN:DAYLIGHT
TZOFFSETFROM:+0000
TZOFFSETTO:+0100
TZNAME:BST
DTSTART:20170326T010000
END:DAYLIGHT
BEGIN:STANDARD
TZOFFSETFROM:+0100
TZOFFSETTO:+0000
TZNAME:GMT
DTSTART:20171029T010000
END:STANDARD
END:VTIMEZONE
BEGIN:VEVENT
DTSTART;VALUE=DATE:20160930
DTEND;VALUE=DATE:20161003
DTSTAMP:20260422T020604
CREATED:20160830T132807Z
LAST-MODIFIED:20160830T132807Z
UID:10000045-1475193600-1475452799@penryn-college.cornwall.sch.uk
SUMMARY:Year 10 Remember Our Roots Residential
DESCRIPTION:
URL:https://penryn-college.cornwall.sch.uk/event/year-10-remember-roots-residential/
LOCATION:Carbis Bay Woods\, Carbis Bay
GEO:50.1948778;-5.4692594
X-APPLE-STRUCTURED-LOCATION;VALUE=URI;X-ADDRESS=Carbis Bay Woods Carbis Bay;X-APPLE-RADIUS=500;X-TITLE=Carbis Bay:geo:-5.4692594,50.1948778
END:VEVENT
END:VCALENDAR