BEGIN:VCALENDAR
VERSION:2.0
PRODID:-//Penryn College - ECPv6.15.13//NONSGML v1.0//EN
CALSCALE:GREGORIAN
METHOD:PUBLISH
X-WR-CALNAME:Penryn College
X-ORIGINAL-URL:https://penryn-college.cornwall.sch.uk
X-WR-CALDESC:Events for Penryn College
REFRESH-INTERVAL;VALUE=DURATION:PT1H
X-Robots-Tag:noindex
X-PUBLISHED-TTL:PT1H
BEGIN:VTIMEZONE
TZID:Europe/London
BEGIN:DAYLIGHT
TZOFFSETFROM:+0000
TZOFFSETTO:+0100
TZNAME:BST
DTSTART:20150329T010000
END:DAYLIGHT
BEGIN:STANDARD
TZOFFSETFROM:+0100
TZOFFSETTO:+0000
TZNAME:GMT
DTSTART:20151025T010000
END:STANDARD
BEGIN:DAYLIGHT
TZOFFSETFROM:+0000
TZOFFSETTO:+0100
TZNAME:BST
DTSTART:20160327T010000
END:DAYLIGHT
BEGIN:STANDARD
TZOFFSETFROM:+0100
TZOFFSETTO:+0000
TZNAME:GMT
DTSTART:20161030T010000
END:STANDARD
BEGIN:DAYLIGHT
TZOFFSETFROM:+0000
TZOFFSETTO:+0100
TZNAME:BST
DTSTART:20170326T010000
END:DAYLIGHT
BEGIN:STANDARD
TZOFFSETFROM:+0100
TZOFFSETTO:+0000
TZNAME:GMT
DTSTART:20171029T010000
END:STANDARD
END:VTIMEZONE
BEGIN:VEVENT
DTSTART;VALUE=DATE:20160909
DTEND;VALUE=DATE:20160912
DTSTAMP:20260422T020854
CREATED:20160830T131429Z
LAST-MODIFIED:20160830T131429Z
UID:10000037-1473379200-1473638399@penryn-college.cornwall.sch.uk
SUMMARY:Year 11 Leading Edge
DESCRIPTION:Year 11 head off to Skern Lodge for the first of the year’s challenges.
URL:https://penryn-college.cornwall.sch.uk/event/year-11-leading-edge/
LOCATION:Skern Lodge\, Appledore\, Biddeford\, Devon\, United Kingdom
GEO:51.0539778;-4.1923647
X-APPLE-STRUCTURED-LOCATION;VALUE=URI;X-ADDRESS=Skern Lodge Appledore Biddeford Devon United Kingdom;X-APPLE-RADIUS=500;X-TITLE=Appledore:geo:-4.1923647,51.0539778
END:VEVENT
END:VCALENDAR